BEGIN:VCALENDAR
VERSION:2.0
PRODID:icalendar-ruby
CALSCALE:GREGORIAN
METHOD:PUBLISH
BEGIN:VEVENT
DTSTAMP:20260419T220334Z
UID:60-311725@ccbcohio.com
DTSTART:20261011T210000Z
DTEND:20261011T220000Z
CLASS:PUBLIC
CREATED:20260419T162705
DESCRIPTION:Choir practice resumes every other week
LAST-MODIFIED:20260419T162705
LOCATION:5442 Sunbury RdColumbus\, OH 43230-1144
SUMMARY:Choir Practice
URL;VALUE=URI:https://www.ccbcohio.com/events/choir-practice--60/2026-10-11
ATTACH;FILENAME=music_av-08.jpg;FMTTYPE=image/jpeg:https://dq5pwpg1q8ru0.cl
 oudfront.net/2025/12/30/17/14/25/b192ae0f-5c73-4799-8c69-32ad2993029d/musi
 c_av-08.jpg
END:VEVENT
END:VCALENDAR
